BEGIN:VCALENDAR
VERSION:2.0
PRODID:-//Rutgers Addiction Research Center (RARC) - ECPv6.7.0//NONSGML v1.0//EN
CALSCALE:GREGORIAN
METHOD:PUBLISH
X-WR-CALNAME:Rutgers Addiction Research Center (RARC)
X-ORIGINAL-URL:https://www.addiction.rutgers.edu
X-WR-CALDESC:Events for Rutgers Addiction Research Center (RARC)
REFRESH-INTERVAL;VALUE=DURATION:PT1H
X-Robots-Tag:noindex
X-PUBLISHED-TTL:PT1H
BEGIN:VTIMEZONE
TZID:America/New_York
BEGIN:DAYLIGHT
TZOFFSETFROM:-0500
TZOFFSETTO:-0400
TZNAME:EDT
DTSTART:20220313T070000
END:DAYLIGHT
BEGIN:STANDARD
TZOFFSETFROM:-0400
TZOFFSETTO:-0500
TZNAME:EST
DTSTART:20221106T060000
END:STANDARD
END:VTIMEZONE
BEGIN:VEVENT
DTSTART;TZID=America/New_York:20221024T100000
DTEND;TZID=America/New_York:20221024T120000
DTSTAMP:20260420T063725
CREATED:20220914T235916Z
LAST-MODIFIED:20221012T212404Z
UID:2426-1666605600-1666612800@www.addiction.rutgers.edu
SUMMARY:NJAMHAA Webinar: Gain Critical Information about Diagnosing and Treating Alcohol Use Disorder
DESCRIPTION:New Jersey Association of Mental Health & Addiction Agencies\, Inc. (NJAMHAA) will host a webinar about alcohol use disorder (AUD). Topics will include: \n\nScreening for and diagnosing AUD\nTreatment\, including medication-assisted treatment\, for AUD\nHow medication and other treatment modalities differ for AUD compared to treatment of other substance use disorders (SUD)\nIntegrating AUD treatment with other SUD treatment for individuals who use alcohol and other substances\nAddressing mental illnesses and other co-morbidities for individuals with AUD
URL:https://www.addiction.rutgers.edu/event/gain-critical-information-about-diagnosing-and-treating-alcohol-use-disorder/
LOCATION:Virtual
END:VEVENT
END:VCALENDAR