BEGIN:VCALENDAR
VERSION:2.0
PRODID:-//Rutgers Addiction Research Center (RARC) - ECPv6.7.0//NONSGML v1.0//EN
CALSCALE:GREGORIAN
METHOD:PUBLISH
X-WR-CALNAME:Rutgers Addiction Research Center (RARC)
X-ORIGINAL-URL:https://www.addiction.rutgers.edu
X-WR-CALDESC:Events for Rutgers Addiction Research Center (RARC)
REFRESH-INTERVAL;VALUE=DURATION:PT1H
X-Robots-Tag:noindex
X-PUBLISHED-TTL:PT1H
BEGIN:VTIMEZONE
TZID:America/New_York
BEGIN:DAYLIGHT
TZOFFSETFROM:-0500
TZOFFSETTO:-0400
TZNAME:EDT
DTSTART:20220313T070000
END:DAYLIGHT
BEGIN:STANDARD
TZOFFSETFROM:-0400
TZOFFSETTO:-0500
TZNAME:EST
DTSTART:20221106T060000
END:STANDARD
END:VTIMEZONE
BEGIN:VEVENT
DTSTART;TZID=America/New_York:20221014T083000
DTEND;TZID=America/New_York:20221014T163000
DTSTAMP:20260420T134424
CREATED:20220929T140401Z
LAST-MODIFIED:20221012T211732Z
UID:2622-1665736200-1665765000@www.addiction.rutgers.edu
SUMMARY:SC&I Teleconference: Diversity\, Equity\, and Inclusion on Patient Engagement and Healthcare Communication
DESCRIPTION:
URL:https://www.addiction.rutgers.edu/event/diversity-equity-and-inclusion-on-patient-engagement-and-healthcare-communication/
LOCATION:The Heldrich Hotel & Conference Center\, 10 Livingston Ave\, New Brunswick\, NJ\, 08901
END:VEVENT
BEGIN:VEVENT
DTSTART;TZID=America/New_York:20221014T120000
DTEND;TZID=America/New_York:20221014T130000
DTSTAMP:20260420T134424
CREATED:20221006T151619Z
LAST-MODIFIED:20221012T211937Z
UID:2693-1665748800-1665752400@www.addiction.rutgers.edu
SUMMARY:RUWINS Seminar: The Genetics of Substance Use Disorders: Novel Approaches to Identify Genes and Develop Tailored Prevention & Intervention Seminar
DESCRIPTION:Numbers are rising and headlines proclaim that substance abuse is reaching epidemic proportions. Researchers are exploring new solutions to this growing problem.\nAt noon on Friday\, October 14th\, Dr. Dick will present The Genetics of Substance Use Disorders: Novel Approaches to Identify Genes and Develop Tailored Prevention/Intervention. \nHybrid event: \n\nIn-person: Room D-251\, Nelson Biological Lavatories\, 604 Allison Road\, Piscataway\, NJ 08854\nVirtual: Click here\n\n \nRUWINS Flyer – Click here to download the flyer
URL:https://www.addiction.rutgers.edu/event/the-genetics-of-substance-use-disorders-novel-approaches-to-identify-genes-and-develop-tailored-prevention-intervention-seminar/
LOCATION:Keck Center for Collaborative Neuroscience – Nelson Biological Labs\, 604 Allison Rd\, Piscataway\, NJ\, 08854
ORGANIZER;CN="Rutgers University Women In Neuroscience":MAILTO:ruwins@dls.rutgers.edu
END:VEVENT
END:VCALENDAR