BEGIN:VCALENDAR
VERSION:2.0
PRODID:-//Rutgers Addiction Research Center (RARC) - ECPv6.7.0//NONSGML v1.0//EN
CALSCALE:GREGORIAN
METHOD:PUBLISH
X-WR-CALNAME:Rutgers Addiction Research Center (RARC)
X-ORIGINAL-URL:https://www.addiction.rutgers.edu
X-WR-CALDESC:Events for Rutgers Addiction Research Center (RARC)
REFRESH-INTERVAL;VALUE=DURATION:PT1H
X-Robots-Tag:noindex
X-PUBLISHED-TTL:PT1H
BEGIN:VTIMEZONE
TZID:America/New_York
BEGIN:DAYLIGHT
TZOFFSETFROM:-0500
TZOFFSETTO:-0400
TZNAME:EDT
DTSTART:20220313T070000
END:DAYLIGHT
BEGIN:STANDARD
TZOFFSETFROM:-0400
TZOFFSETTO:-0500
TZNAME:EST
DTSTART:20221106T060000
END:STANDARD
END:VTIMEZONE
BEGIN:VEVENT
DTSTART;TZID=America/New_York:20221011T100000
DTEND;TZID=America/New_York:20221011T150000
DTSTAMP:20260423T073100
CREATED:20220823T153059Z
LAST-MODIFIED:20220823T153232Z
UID:1973-1665482400-1665500400@www.addiction.rutgers.edu
SUMMARY:14th Annual Pioneers in Endocrinology Workshop - Theme: Transgender Endocrinology
DESCRIPTION:Busch Student Center\, 604 Bartholomew Road\, Piscataway\, NJ 08854-8002 \n\n\n10 a.m. to 12 noon – Scientific Presentations \n\nOpening video remarks on transgender medicine\nAdmiral Rachel L. Levine\, MD\nAssistant Secretary for Health Department of Health and Human Services \n“The Biological Underpinnings of Gender Identity – Implications for Gender Affirming Medical Treatment Strategy”\nJoshua D. Safer\, MD\nExecutive Director\, Center for Transgender Medicine and Surgery\, Mount Sinai Health System \n“Transgender Medicine: Lessons from the Past\, Present and Future”\nVin Tangpricha\, MD\nProfessor of Medicine\, Division of Endocrinology\, Metabolism & Lipids Emory University School of Medicin \n\n\n\n12 noon to 1 p.m. – Luncheon\n1 p.m. to 3 p.m. – Poster Presentations – Featuring the most current endocrine research \n\n\n\n\n 
URL:https://www.addiction.rutgers.edu/event/14th-annual-pioneers-in-endocrinology-workshop-transgender-endocrinology/
END:VEVENT
BEGIN:VEVENT
DTSTART;TZID=America/New_York:20221011T120000
DTEND;TZID=America/New_York:20221011T130000
DTSTAMP:20260423T073100
CREATED:20220914T151453Z
LAST-MODIFIED:20221010T174923Z
UID:2396-1665489600-1665493200@www.addiction.rutgers.edu
SUMMARY:RARC Addiction Seminar Series: Health Equity
DESCRIPTION:The RARC Addiction Seminar Series will take place on the 2nd Tuesday of the month @12:00 p.m. ET. The initial seminar will focus on Health Equity. \nMeet our Speakers: \nJamey Lister\, Ph.D.\nAssistant Professor\, School of Social Work\nA Research Agenda on Addiction Treatment Equity: Methods and Practical Solutions Tailored to the Meeds of Underserved Communities and Marginalized Populations \nAdrian Gale\, Ph.D.\, MSW\nAssistant Professor\, School of Social Work\nExamining Black Adolescents’ Perceptions Of In-school Racial Discrimination \nDate: Tuesday\, October 11\, 2022\nTime: 12:00 – 1:00 p.m.\nLocation: HYBRID EVENT \n\nIn person UBHC Building\, Room D201 – 671 Hoes Ln. W.\, Piscataway\, NJ 08854\nVirtual: https://rutgers.zoom.us/j/98951294591?pwd=K2dTWlhobTY0eXFXdEF1SnphUmI1QT09\n\nRegistration: Click here! \nContact: rarc@bhi.rutgers.edu \n 
URL:https://www.addiction.rutgers.edu/event/rarc-addiction-seminar-series-health-equity/
LOCATION:UBHC Building\, 671 Hoes Ln. W.\, Piscataway\, NJ\, 08854\, United States
ORGANIZER;CN="Rutgers Addiction Research Center":MAILTO:rarc@bhi.rutgers.edu
END:VEVENT
END:VCALENDAR