BEGIN:VCALENDAR
VERSION:2.0
PRODID:-//Rutgers Addiction Research Center (RARC) - ECPv6.7.0//NONSGML v1.0//EN
CALSCALE:GREGORIAN
METHOD:PUBLISH
X-WR-CALNAME:Rutgers Addiction Research Center (RARC)
X-ORIGINAL-URL:https://www.addiction.rutgers.edu
X-WR-CALDESC:Events for Rutgers Addiction Research Center (RARC)
REFRESH-INTERVAL;VALUE=DURATION:PT1H
X-Robots-Tag:noindex
X-PUBLISHED-TTL:PT1H
BEGIN:VTIMEZONE
TZID:America/New_York
BEGIN:DAYLIGHT
TZOFFSETFROM:-0500
TZOFFSETTO:-0400
TZNAME:EDT
DTSTART:20220313T070000
END:DAYLIGHT
BEGIN:STANDARD
TZOFFSETFROM:-0400
TZOFFSETTO:-0500
TZNAME:EST
DTSTART:20221106T060000
END:STANDARD
END:VTIMEZONE
BEGIN:VEVENT
DTSTART;TZID=America/New_York:20220922T090000
DTEND;TZID=America/New_York:20220922T160000
DTSTAMP:20260423T193232
CREATED:20220921T143654Z
LAST-MODIFIED:20220921T143654Z
UID:2503-1663837200-1663862400@www.addiction.rutgers.edu
SUMMARY:NJAMHAA Fall Conference: Opportunity Meets Innovation: Behavioral Health Today and Tomorrow
DESCRIPTION:New Jersey Association of Mental Health & Addiction Agencies\, Inc. (NJAMHAA) will host its Fall Conference\, Opportunity Meets Innovation: Behavioral Health Today and Tomorrow on Thursday\, September 22\, 2022. \n  \nWhat can you expect? \n* Leaders from the Office of National Drug Control Policy will present on America’s Drug Control Strategy\n* Keynote presentation and several workshops will provide strategies for improving staff recruitment and retention\n* Other workshops will present tools for enhancing quality of services and achieving positive health outcomes \nConference Pricing:\nMember – $100; Non-Member – $200 \nEvent details including registration\, agenda\, speakers\, and workshops can be accessed HERE. \nIf you need further assistance\, please contact Tara Shiffert\, Event Planner\, at tshiffert@njamhaa.org.
URL:https://www.addiction.rutgers.edu/event/njamhaa-fall-conference-opportunity-meets-innovation-behavioral-health-today-and-tomorrow/
END:VEVENT
BEGIN:VEVENT
DTSTART;TZID=America/New_York:20220922T120000
DTEND;TZID=America/New_York:20220922T130000
DTSTAMP:20260423T193232
CREATED:20220915T163810Z
LAST-MODIFIED:20220915T163810Z
UID:2455-1663848000-1663851600@www.addiction.rutgers.edu
SUMMARY:988 Suicide and Crisis Care Transformation (Virtual)
DESCRIPTION:RBHS Professional Well-Being Event \nTopic: Learn more about 988\, who should call\, why to call\, what happens when you call\, how it differs from 911\, and what the larger mental health crisis response system can do. \nAudience: Open to all (Virtual) \nLink to Register and Attend:  \nhttps://rutgers.zoom.us/webinar/register/WN_RpKw_3YWRMSt1aEtT6vVbA \n 
URL:https://www.addiction.rutgers.edu/event/988-suicide-and-crisis-care-transformation-virtual/
LOCATION:Virtual
END:VEVENT
BEGIN:VEVENT
DTSTART;TZID=America/New_York:20220922T170000
DTEND;TZID=America/New_York:20220922T190000
DTSTAMP:20260423T193232
CREATED:20220919T204414Z
LAST-MODIFIED:20220922T155718Z
UID:2477-1663866000-1663873200@www.addiction.rutgers.edu
SUMMARY:RARC Trainee Appreciation Night
DESCRIPTION:  \nWhen: Thursday\, September 22\, 2022\nTime: 5:00pm onwards\nWhere: The courtyard between the School of Public Health (SPH) Building and Center for Advanced Biomedicine (CABM) Building on Busch Campus – 683 Hoes Ln West\, Piscataway.\nRSVP: Click here\n\n  \nAs part of post-doc appreciation week (Sept 19-23)\, the RARC would like to show our appreciation for the incredible contributions that our post-docs and other trainees make to the world-class addiction research being carried out here at Rutgers. In this spirit\, we invite all post-docs\, graduate students\, research assistants and any other trainees working across our 4 research domains (Basic Science; Epidemiology\, Etiology and Prevention; Treatment and Recovery; Public Policy) to join us for pizza and drinks on Thursday\, September 22\, 2022 on the Busch Campus. We will use this as an opportunity to discuss upcoming trainee-focused RARC initiatives (e.g. travel awards) and to canvass your input on how we can best foster our trainee community within the RARC. We look forward to seeing you!
URL:https://www.addiction.rutgers.edu/event/rarc-trainee-appreciation-night/
LOCATION:Courtyard\, 683 Hoes Ln West\, Piscataway.\, NJ\, 08854\, United States
END:VEVENT
END:VCALENDAR