BEGIN:VCALENDAR
VERSION:2.0
PRODID:-//Rutgers Addiction Research Center (RARC) - ECPv6.7.0//NONSGML v1.0//EN
CALSCALE:GREGORIAN
METHOD:PUBLISH
X-WR-CALNAME:Rutgers Addiction Research Center (RARC)
X-ORIGINAL-URL:https://www.addiction.rutgers.edu
X-WR-CALDESC:Events for Rutgers Addiction Research Center (RARC)
REFRESH-INTERVAL;VALUE=DURATION:PT1H
X-Robots-Tag:noindex
X-PUBLISHED-TTL:PT1H
BEGIN:VTIMEZONE
TZID:America/New_York
BEGIN:DAYLIGHT
TZOFFSETFROM:-0500
TZOFFSETTO:-0400
TZNAME:EDT
DTSTART:20220313T070000
END:DAYLIGHT
BEGIN:STANDARD
TZOFFSETFROM:-0400
TZOFFSETTO:-0500
TZNAME:EST
DTSTART:20221106T060000
END:STANDARD
END:VTIMEZONE
BEGIN:VEVENT
DTSTART;TZID=America/New_York:20220919T120000
DTEND;TZID=America/New_York:20220919T130000
DTSTAMP:20260420T214852
CREATED:20220919T122902Z
LAST-MODIFIED:20220919T122902Z
UID:2469-1663588800-1663592400@www.addiction.rutgers.edu
SUMMARY:Virtual Seminar: Social reward to protect against substance use disorders
DESCRIPTION:Rutgers Cell Biology\, Neuroscience & Physiology (CBNP) Student Hosted Seminar \n“Social reward to protect against substance use disorders” \nMarco Venniro\, Ph.D.\nAssistant Professor\nDepartment of Anatomy & Neurobiology University of Maryland – School of Medicine \nMonday\, September 19th @12:00 PM \nMeeting Link: https://rutgers.zoom.us/j/97856824450?pwd=aGphNWYwNHRBS2Mya3ZpV0o5eXI3UT09\nMeeting ID: 978 5682 4450\nPassword: 911860 \nHosted By: Hunter Lanovoi\, Doctoral Candidate
URL:https://www.addiction.rutgers.edu/event/virtual-seminar-social-reward-to-protect-against-substance-use-disorders/
LOCATION:Virtual
END:VEVENT
END:VCALENDAR