BEGIN:VCALENDAR
VERSION:2.0
PRODID:-//Rutgers Addiction Research Center (RARC) - ECPv6.7.0//NONSGML v1.0//EN
CALSCALE:GREGORIAN
METHOD:PUBLISH
X-WR-CALNAME:Rutgers Addiction Research Center (RARC)
X-ORIGINAL-URL:https://www.addiction.rutgers.edu
X-WR-CALDESC:Events for Rutgers Addiction Research Center (RARC)
REFRESH-INTERVAL;VALUE=DURATION:PT1H
X-Robots-Tag:noindex
X-PUBLISHED-TTL:PT1H
BEGIN:VTIMEZONE
TZID:America/New_York
BEGIN:DAYLIGHT
TZOFFSETFROM:-0500
TZOFFSETTO:-0400
TZNAME:EDT
DTSTART:20220313T070000
END:DAYLIGHT
BEGIN:STANDARD
TZOFFSETFROM:-0400
TZOFFSETTO:-0500
TZNAME:EST
DTSTART:20221106T060000
END:STANDARD
END:VTIMEZONE
BEGIN:VEVENT
DTSTART;VALUE=DATE:20220914
DTEND;VALUE=DATE:20220915
DTSTAMP:20260421T062217
CREATED:20220915T001617Z
LAST-MODIFIED:20220915T001617Z
UID:2434-1663113600-1663199999@www.addiction.rutgers.edu
SUMMARY:Knock Out Opioid Abuse Day
DESCRIPTION:
URL:https://www.addiction.rutgers.edu/event/knock-out-opioid-abuse-day/
END:VEVENT
BEGIN:VEVENT
DTSTART;TZID=America/New_York:20220914T120000
DTEND;TZID=America/New_York:20220914T130000
DTSTAMP:20260421T062217
CREATED:20220912T171310Z
LAST-MODIFIED:20220912T171310Z
UID:2374-1663156800-1663160400@www.addiction.rutgers.edu
SUMMARY:Poison Prevention for Individuals With Intellectual and Developmental Disabilities and their Caregivers Webinar
DESCRIPTION:When you think of poisons in the home\, household cleaners\, antifreeze\, and laundry detergent probably come immediately to mind. In fact\, the list of toxic substances in the home is much wider. Poisons can include medications taken incorrectly\, as well as recreational drugs/alcohol\, environmental hazards\, and even improperly handled food like meat or seafood. Individuals with I/DD necessitate special considerations to stay safe in the family homes\, a group home\, or while in the homes of others. \nJoin us for a conversation with Eward Greene\, Health Educator from the NJ Poison Center (NJPIES)\, about potential hazards\, proactive poison prevention methods\, and who to call for help.
URL:https://www.addiction.rutgers.edu/event/poison-prevention-for-individuals-with-intellectual-and-developmental-disabilities-and-their-caregivers-webinar/
LOCATION:Virtual
END:VEVENT
END:VCALENDAR