BEGIN:VCALENDAR
VERSION:2.0
PRODID:-//Rutgers Addiction Research Center (RARC) - ECPv6.7.0//NONSGML v1.0//EN
CALSCALE:GREGORIAN
METHOD:PUBLISH
X-WR-CALNAME:Rutgers Addiction Research Center (RARC)
X-ORIGINAL-URL:https://www.addiction.rutgers.edu
X-WR-CALDESC:Events for Rutgers Addiction Research Center (RARC)
REFRESH-INTERVAL;VALUE=DURATION:PT1H
X-Robots-Tag:noindex
X-PUBLISHED-TTL:PT1H
BEGIN:VTIMEZONE
TZID:America/New_York
BEGIN:DAYLIGHT
TZOFFSETFROM:-0500
TZOFFSETTO:-0400
TZNAME:EDT
DTSTART:20220313T070000
END:DAYLIGHT
BEGIN:STANDARD
TZOFFSETFROM:-0400
TZOFFSETTO:-0500
TZNAME:EST
DTSTART:20221106T060000
END:STANDARD
END:VTIMEZONE
BEGIN:VEVENT
DTSTART;TZID=America/New_York:20220908T110000
DTEND;TZID=America/New_York:20220908T120000
DTSTAMP:20260423T142519
CREATED:20220823T154856Z
LAST-MODIFIED:20220823T155030Z
UID:1987-1662634800-1662638400@www.addiction.rutgers.edu
SUMMARY:Highlighting Addiction Recovery Webinar
DESCRIPTION:People in recovery will share their journey from addiction to recovery in this webinar being held to highlight National Recovery Month.
URL:https://www.addiction.rutgers.edu/event/highlighting-addiction-recovery-webinar/
LOCATION:Virtual
END:VEVENT
END:VCALENDAR